BEGIN:VCALENDAR
VERSION:2.0
PRODID:-//Tukios.com/
BEGIN:VEVENT
UID:084e5cc9-38d0-4280-b93e-09f5f1f7361b@www.goodwinharnish.com
DTSTAMP:20260421T211919Z
DTSTART:20260506T140000Z
DTEND:20260506T150000Z
SUMMARY:Visitation
DESCRIPTION:
URL:https://www.goodwinharnish.com/obituaries/cathy-booth-borgelt
LOCATION:Goodwin - Harnish Funeral Home & Cremation Services 3220 East 
	State Road 124  Bluffton IN 46714
GEO:40.7420293;-85.1839064
END:VEVENT
END:VCALENDAR