BEGIN:VCALENDAR
VERSION:2.0
PRODID:-//Tukios.com/
BEGIN:VEVENT
UID:814a3071-76e8-41af-ae98-c8a257fef7c8@www.goodwinharnish.com
DTSTAMP:20260421T212029Z
DTSTART:20260506T150000Z
DTEND:20260506T160000Z
SUMMARY:Memorial Service
DESCRIPTION:
URL:https://www.goodwinharnish.com/obituaries/cathy-booth-borgelt
LOCATION:Goodwin - Harnish Funeral Home & Cremation Services 3220 East 
	State Road 124  Bluffton IN 46714
GEO:40.7420293;-85.1839064
END:VEVENT
END:VCALENDAR